BEGIN:VCALENDAR
VERSION:2.0
PRODID:-//Department of Parks and Recreation - ECPv6.14.2//NONSGML v1.0//EN
CALSCALE:GREGORIAN
METHOD:PUBLISH
X-WR-CALNAME:Department of Parks and Recreation
X-ORIGINAL-URL:https://parksandrecreation.idaho.gov
X-WR-CALDESC:Events for Department of Parks and Recreation
REFRESH-INTERVAL;VALUE=DURATION:PT1H
X-Robots-Tag:noindex
X-PUBLISHED-TTL:PT1H
BEGIN:VTIMEZONE
TZID:America/Boise
BEGIN:DAYLIGHT
TZOFFSETFROM:-0700
TZOFFSETTO:-0600
TZNAME:MDT
DTSTART:20260308T090000
END:DAYLIGHT
BEGIN:STANDARD
TZOFFSETFROM:-0600
TZOFFSETTO:-0700
TZNAME:MST
DTSTART:20261101T080000
END:STANDARD
END:VTIMEZONE
BEGIN:VEVENT
DTSTART;TZID=America/Boise:20260515T183000
DTEND;TZID=America/Boise:20260515T233000
DTSTAMP:20260424T104509
CREATED:20260217T190230Z
LAST-MODIFIED:20260218T181721Z
UID:10002091-1778869800-1778887800@parksandrecreation.idaho.gov
SUMMARY:Observatory Program @Bruneau Dunes
DESCRIPTION:Admission is $5 per person or $20/family. Includes a planetarium show\, presentation\, and telescope viewing. A Motor Vehicle Entrance Fee of $7 per vehicle is required to enter the park\, or a valid Idaho State Parks Passport. \n\n\n\nPrintable Flyer: \n\n\n\nhttps://parksandrecreation.idaho.gov/wp-content/uploads/Star-gaze-at-BRU-2026.pdf
URL:https://parksandrecreation.idaho.gov/sing-post-name/observatory-program-bruneau-dunes-5/2026-05-15/
LOCATION:Idaho
CATEGORIES:Bruneau Dunes
ATTACH;FMTTYPE=image/jpeg:https://parksandrecreation.idaho.gov/wp-content/uploads/Star-gaze-at-BRU-2026.jpg
END:VEVENT
BEGIN:VEVENT
DTSTART;TZID=America/Boise:20260515T210000
DTEND;TZID=America/Boise:20260515T223000
DTSTAMP:20260424T104509
CREATED:20260423T185311Z
LAST-MODIFIED:20260423T185315Z
UID:10002103-1778878800-1778884200@parksandrecreation.idaho.gov
SUMMARY:Astronomy Night @ Three Island Crossing
DESCRIPTION:Introduction to the Night sky and star gazing.   Join us in the Oregon Trail History Centers parking lot.  Bring a chair and binoculars if you have them. \n\n\n\n$7.00 MVEF applies to all vehicles unless a valid Idaho Parks Passport is attached to the vehicle.
URL:https://parksandrecreation.idaho.gov/sing-post-name/astronomy-night-three-island-crossing/
LOCATION:Oregon Trail History and Education Center\, 1083 s Three island Park Dr.\, Glenns Ferry\, id\, 83623
END:VEVENT
BEGIN:VEVENT
DTSTART;TZID=America/Boise:20260516T183000
DTEND;TZID=America/Boise:20260516T233000
DTSTAMP:20260424T104509
CREATED:20260217T190230Z
LAST-MODIFIED:20260218T181721Z
UID:10002092-1778956200-1778974200@parksandrecreation.idaho.gov
SUMMARY:Observatory Program @Bruneau Dunes
DESCRIPTION:Admission is $5 per person or $20/family. Includes a planetarium show\, presentation\, and telescope viewing. A Motor Vehicle Entrance Fee of $7 per vehicle is required to enter the park\, or a valid Idaho State Parks Passport. \n\n\n\nPrintable Flyer: \n\n\n\nhttps://parksandrecreation.idaho.gov/wp-content/uploads/Star-gaze-at-BRU-2026.pdf
URL:https://parksandrecreation.idaho.gov/sing-post-name/observatory-program-bruneau-dunes-5/2026-05-16/
LOCATION:Idaho
CATEGORIES:Bruneau Dunes
ATTACH;FMTTYPE=image/jpeg:https://parksandrecreation.idaho.gov/wp-content/uploads/Star-gaze-at-BRU-2026.jpg
END:VEVENT
END:VCALENDAR