BEGIN:VCALENDAR
VERSION:2.0
PRODID:-//Department of Parks and Recreation - ECPv6.14.2//NONSGML v1.0//EN
CALSCALE:GREGORIAN
METHOD:PUBLISH
X-WR-CALNAME:Department of Parks and Recreation
X-ORIGINAL-URL:https://parksandrecreation.idaho.gov
X-WR-CALDESC:Events for Department of Parks and Recreation
REFRESH-INTERVAL;VALUE=DURATION:PT1H
X-Robots-Tag:noindex
X-PUBLISHED-TTL:PT1H
BEGIN:VTIMEZONE
TZID:America/Boise
BEGIN:DAYLIGHT
TZOFFSETFROM:-0700
TZOFFSETTO:-0600
TZNAME:MDT
DTSTART:20260308T090000
END:DAYLIGHT
BEGIN:STANDARD
TZOFFSETFROM:-0600
TZOFFSETTO:-0700
TZNAME:MST
DTSTART:20261101T080000
END:STANDARD
END:VTIMEZONE
BEGIN:VEVENT
DTSTART;TZID=America/Boise:20260214T170000
DTEND;TZID=America/Boise:20260214T220000
DTSTAMP:20260425T132350
CREATED:20251024T213400Z
LAST-MODIFIED:20260124T220742Z
UID:10001863-1771088400-1771106400@parksandrecreation.idaho.gov
SUMMARY:FULL- Winter Observatory Program @Bruneau Dunes
DESCRIPTION:Public shows are limited to the first 25 reservations. \n\n\n\nCall 208-366-7919 to make your reservation. Admission is $5 per person or $20/family. Includes a planetarium show\, presentation\, and telescope viewing. A Motor Vehicle Entrance Fee of $7 per vehicle is required to enter the park\, or a valid Idaho State Parks Passport.
URL:https://parksandrecreation.idaho.gov/sing-post-name/winter-observatory-program-bruneau-dunes-4/
CATEGORIES:Bruneau Dunes
ATTACH;FMTTYPE=image/png:https://parksandrecreation.idaho.gov/wp-content/uploads/Winter-2526-Program.png
END:VEVENT
BEGIN:VEVENT
DTSTART;TZID=America/Boise:20260207T170000
DTEND;TZID=America/Boise:20260207T220000
DTSTAMP:20260425T132350
CREATED:20251024T213318Z
LAST-MODIFIED:20260205T223930Z
UID:10001862-1770483600-1770501600@parksandrecreation.idaho.gov
SUMMARY:FULL- Winter Observatory Program @Bruneau Dunes
DESCRIPTION:Public shows are limited to the first 25 reservations. \n\n\n\nCall 208-366-7919 to make your reservation. Admission is $5 per person or $20/family. Includes a planetarium show\, presentation\, and telescope viewing. A Motor Vehicle Entrance Fee of $7 per vehicle is required to enter the park\, or a valid Idaho State Parks Passport.
URL:https://parksandrecreation.idaho.gov/sing-post-name/winter-observatory-program-bruneau-dunes-3/
CATEGORIES:Bruneau Dunes
ATTACH;FMTTYPE=image/png:https://parksandrecreation.idaho.gov/wp-content/uploads/Winter-2526-Program.png
END:VEVENT
BEGIN:VEVENT
DTSTART;TZID=America/Boise:20260206T170000
DTEND;TZID=America/Boise:20260206T220000
DTSTAMP:20260425T132350
CREATED:20251024T213205Z
LAST-MODIFIED:20260131T183920Z
UID:10001861-1770397200-1770415200@parksandrecreation.idaho.gov
SUMMARY:FULL - Winter Observatory Program @Bruneau Dunes
DESCRIPTION:Public shows are limited to the first 25 reservations. \n\n\n\nCall 208-366-7919 to make your reservation. Admission is $5 per person or $20/family. Includes a planetarium show\, presentation\, and telescope viewing. A Motor Vehicle Entrance Fee of $7 per vehicle is required to enter the park\, or a valid Idaho State Parks Passport.
URL:https://parksandrecreation.idaho.gov/sing-post-name/winter-observatory-program-bruneau-dunes-2/
CATEGORIES:Bruneau Dunes
ATTACH;FMTTYPE=image/png:https://parksandrecreation.idaho.gov/wp-content/uploads/Winter-2526-Program.png
END:VEVENT
BEGIN:VEVENT
DTSTART;TZID=America/Boise:20260131T160000
DTEND;TZID=America/Boise:20260131T210000
DTSTAMP:20260425T132350
CREATED:20251024T213006Z
LAST-MODIFIED:20260130T225726Z
UID:10001860-1769875200-1769893200@parksandrecreation.idaho.gov
SUMMARY:FULL - Winter Observatory Program @Bruneau Dunes
DESCRIPTION:Public shows are limited to the first 25 reservations. \n\n\n\nCall 208-366-7919 to make your reservation. Admission is $5 per person or $20/family. Includes a planetarium show\, presentation\, and telescope viewing. A Motor Vehicle Entrance Fee of $7 per vehicle is required to enter the park\, or a valid Idaho State Parks Passport.
URL:https://parksandrecreation.idaho.gov/sing-post-name/winter-observatory-program-bruneau-dunes/
CATEGORIES:Bruneau Dunes
ATTACH;FMTTYPE=image/png:https://parksandrecreation.idaho.gov/wp-content/uploads/Winter-2526-Program.png
END:VEVENT
BEGIN:VEVENT
DTSTART;TZID=America/Boise:20260124T160000
DTEND;TZID=America/Boise:20260124T210000
DTSTAMP:20260425T132350
CREATED:20251024T210837Z
LAST-MODIFIED:20260102T231918Z
UID:10001857-1769270400-1769288400@parksandrecreation.idaho.gov
SUMMARY:FULL Winter Observatory Program @Bruneau Dunes
DESCRIPTION:Public shows are limited to the first 25 reservations. \n\n\n\nCall 208-366-7919 to make your reservation. Admission is $5 per person or $20/family. Includes a planetarium show\, presentation\, and telescope viewing. A Motor Vehicle Entrance Fee of $7 per vehicle is required to enter the park\, or a valid Idaho State Parks Passport.
URL:https://parksandrecreation.idaho.gov/sing-post-name/winter-observatory-program-11/
CATEGORIES:Bruneau Dunes
ATTACH;FMTTYPE=image/png:https://parksandrecreation.idaho.gov/wp-content/uploads/Winter-2526-Program.png
END:VEVENT
END:VCALENDAR